BEGIN:VCALENDAR
VERSION:2.0
PRODID:-//Ment&#039;or - ECPv6.15.13//NONSGML v1.0//EN
CALSCALE:GREGORIAN
METHOD:PUBLISH
X-ORIGINAL-URL:https://www.mentorbkb.org
X-WR-CALDESC:Events for Ment&#039;or
REFRESH-INTERVAL;VALUE=DURATION:PT1H
X-Robots-Tag:noindex
X-PUBLISHED-TTL:PT1H
BEGIN:VTIMEZONE
TZID:America/New_York
BEGIN:DAYLIGHT
TZOFFSETFROM:-0500
TZOFFSETTO:-0400
TZNAME:EDT
DTSTART:20240310T070000
END:DAYLIGHT
BEGIN:STANDARD
TZOFFSETFROM:-0400
TZOFFSETTO:-0500
TZNAME:EST
DTSTART:20241103T060000
END:STANDARD
BEGIN:DAYLIGHT
TZOFFSETFROM:-0500
TZOFFSETTO:-0400
TZNAME:EDT
DTSTART:20250309T070000
END:DAYLIGHT
BEGIN:STANDARD
TZOFFSETFROM:-0400
TZOFFSETTO:-0500
TZNAME:EST
DTSTART:20251102T060000
END:STANDARD
BEGIN:DAYLIGHT
TZOFFSETFROM:-0500
TZOFFSETTO:-0400
TZNAME:EDT
DTSTART:20260308T070000
END:DAYLIGHT
BEGIN:STANDARD
TZOFFSETFROM:-0400
TZOFFSETTO:-0500
TZNAME:EST
DTSTART:20261101T060000
END:STANDARD
END:VTIMEZONE
BEGIN:VEVENT
DTSTART;TZID=America/New_York:20251111T173000
DTEND;TZID=America/New_York:20251111T213000
DTSTAMP:20260423T164809
CREATED:20250911T162016Z
LAST-MODIFIED:20251108T170101Z
UID:106992-1762882200-1762896600@www.mentorbkb.org
SUMMARY:2025 Ment'or Grant Gala
DESCRIPTION:Please join us for the 2025 Ment’or Grant Gala honoring Chef André Soltner and his lifelong commitment to mentorship. The Gala is hosted by Chefs Daniel Boulud\, Thomas Keller\, and their extraordinary colleagues: \nCosme Aguilar · Thomas Allan · Franklin Becker · Jonathan Benno\nRodrigo Campos · Shaun Hergatt · Gavin Kaysen · Alex Lee · Angie Mar \nCharlie Mitchell · Junghyun Park · Melissa Rodriguez · Stefano Secchi \nSungchul Shim · Cedric Vongerichten · Jean-Georges Vongerichten \nRooted in the tradition of master chefs mentoring the next generation\, the \nGrant Program offers life-changing opportunities—grants that open doors\, education that expands horizons\, and connections that link ambitious young professionals with the world’s most distinguished chefs. \n Since 2014\, we have awarded over $2.2 million in grants to young chefs. Helping these chefs stage around the world is integral to our mission of building a successful pipeline of talent in the U.S. and establishing America as a leader in the global culinary community.  \nWith your support\, we can continue to shape the next generation of great \nAmerican culinary leaders! \n \nTuesday\, November 11th\n6:00 PM | Cocktail Reception\n6:45 PM | Dinner  \nRestaurant Daniel \n60 East 65th Street \nNew York\, NY 10065 \nDress code for the evening is Cocktail Attire.    \n  \nThank You To Our Sponsors & Supporters:  \n \n  \nIf you are unable to attend but wish to support\, please click HERE \nEvent details are subject to change. Tickets are non-refundable. Price does not include accommodations or travel. Please consult your tax advisor regarding deductibility. Must be 21 years of age or older to consume alcohol; please drink responsibly. \nBy entering this event you agree to be photographed or filmed and consent to the following:\nI hereby irrevocably authorize and grant permission to Ment’or\, their successors and assigns\, and their respective officers authorized by them (collectively\, “Grantees”)\, to use\, separately or together\, my name\, picture\, or other likeness\, in whole or in part\, in connection with this Ment’or event in any and all media now or hereafter known (including\, without limitation\, broadcast and cable television\, industrial media\, and internet) throughout the world\, in perpetuity.
URL:https://www.mentorbkb.org/event/2025grantgala/
LOCATION:Restaurant DANIEL\, 60 East 65th St\, New York\, NY\, 10065\, United States
ORGANIZER;CN="Ment'or Events":MAILTO:events@mentorbkb.org
END:VEVENT
END:VCALENDAR