BEGIN:VCALENDAR
VERSION:2.0
PRODID:-//Ment&#039;or - ECPv6.15.13//NONSGML v1.0//EN
CALSCALE:GREGORIAN
METHOD:PUBLISH
X-ORIGINAL-URL:https://www.mentorbkb.org
X-WR-CALDESC:Events for Ment&#039;or
REFRESH-INTERVAL;VALUE=DURATION:PT1H
X-Robots-Tag:noindex
X-PUBLISHED-TTL:PT1H
BEGIN:VTIMEZONE
TZID:America/New_York
BEGIN:DAYLIGHT
TZOFFSETFROM:-0500
TZOFFSETTO:-0400
TZNAME:EDT
DTSTART:20230312T070000
END:DAYLIGHT
BEGIN:STANDARD
TZOFFSETFROM:-0400
TZOFFSETTO:-0500
TZNAME:EST
DTSTART:20231105T060000
END:STANDARD
BEGIN:DAYLIGHT
TZOFFSETFROM:-0500
TZOFFSETTO:-0400
TZNAME:EDT
DTSTART:20240310T070000
END:DAYLIGHT
BEGIN:STANDARD
TZOFFSETFROM:-0400
TZOFFSETTO:-0500
TZNAME:EST
DTSTART:20241103T060000
END:STANDARD
BEGIN:DAYLIGHT
TZOFFSETFROM:-0500
TZOFFSETTO:-0400
TZNAME:EDT
DTSTART:20250309T070000
END:DAYLIGHT
BEGIN:STANDARD
TZOFFSETFROM:-0400
TZOFFSETTO:-0500
TZNAME:EST
DTSTART:20251102T060000
END:STANDARD
END:VTIMEZONE
BEGIN:VEVENT
DTSTART;TZID=America/New_York:20241107T191500
DTEND;TZID=America/New_York:20241107T211500
DTSTAMP:20260425T190030
CREATED:20241018T064527Z
LAST-MODIFIED:20250911T172949Z
UID:105313-1731006900-1731014100@www.mentorbkb.org
SUMMARY:An Evening with Chef Gerard Craft & Friends: Support Team USA!
DESCRIPTION:Support Team USA on their Road To Lyon! \nHelp send Team USA to the world’s most prestigious culinary competition\, the Bocuse d’Or in Lyon\, France. Ment’or Culinary Council Chef Gerard Craft\, and 15 other local chefs are creating an experiential\, walk-around event featuring unique chef-prepared dishes\, created specifically for this occasion. Come join Chefs Justin Carlisle\, Joe Flamm\, Matt Accarrino\, Johnny Leach & Helen Jo\, Ancy Ticer & Michael Hudman\, Amy Mills\, Craig Rivard\, Loryn Nalic\, Aaron Martinez & Michael Gallina\, David Sandusky\, Matt Daughaday\, Ben Poremba\, Jesse Mendoza & Mike Risk\, Joshua Lanning and Suji Shaw for this amazing evening in support of Team USA. \n \n“Ment’or has been transformative in changing the way American chefs are perceived on the global stage. Supporting Team USA as they compete in Lyon isn’t just about winning a competition—it’s about fostering mentorship and giving young chefs the opportunity to train with the best. The dedication and passion these chefs bring is inspiring\, and I’m proud to be part of an organization that invests in their future.” \nChef Gerard Craft\nChef/Owner\, Niche Food Group\nMent’or Culinary Council Member \nTicket Levels and Pricing: \nGeneral Admission: $150\nIncludes access to the event’s chef stations\, as well as an open bar with beer\, wine\, and signature cocktails. \nEarly Admission: $200\nEnjoy early entry to be the first to sample all signature dishes & open bar\, along with a special welcome toast upon arrival \n(Only 50 tickets available!) \nVIP Admission: $250\nIn addition to early access\, VIP guests will receive entry to the exclusive chef afterparty at None of the Above and a curated swag bag. (Only 25 tickets available!). \nTo purchase tickets for this special event\, click here. \nEvent details are subject to change. Tickets are non-refundable. Price does not include accommodations or travel. Please consult your tax advisor regarding deductibility. Must be 21 years of age or older to consume alcohol; please drink responsibly. \nBy entering this event you agree to be photographed or filmed and consent to the following:\nI hereby irrevocably authorize and grant permission to Ment’or\, their successors and assigns\, and their respective officers authorized by them\, to use\, separately or together\, my name\, picture\, or other likeness\, in whole or in part\, in connection with this Ment’or event in any and all media now or hereafter known (including\, without limitation\, broadcast and cable television\, industrial media\, and internet) throughout the world\, in perpetuity.\nIf you cannot join us but would still like to support Ment’or\, please click here to donate!
URL:https://www.mentorbkb.org/event/an-evening-with-gerard-craft-friends-support-team-usa/
LOCATION:Expat BBQ\, 3730 Foundry Way\, St. Louis\, MO\, 63110\, United States
END:VEVENT
END:VCALENDAR