BEGIN:VCALENDAR
VERSION:2.0
PRODID:-//Ment&#039;or - ECPv6.15.13//NONSGML v1.0//EN
CALSCALE:GREGORIAN
METHOD:PUBLISH
X-ORIGINAL-URL:https://www.mentorbkb.org
X-WR-CALDESC:Events for Ment&#039;or
REFRESH-INTERVAL;VALUE=DURATION:PT1H
X-Robots-Tag:noindex
X-PUBLISHED-TTL:PT1H
BEGIN:VTIMEZONE
TZID:America/New_York
BEGIN:DAYLIGHT
TZOFFSETFROM:-0500
TZOFFSETTO:-0400
TZNAME:EDT
DTSTART:20240310T070000
END:DAYLIGHT
BEGIN:STANDARD
TZOFFSETFROM:-0400
TZOFFSETTO:-0500
TZNAME:EST
DTSTART:20241103T060000
END:STANDARD
BEGIN:DAYLIGHT
TZOFFSETFROM:-0500
TZOFFSETTO:-0400
TZNAME:EDT
DTSTART:20250309T070000
END:DAYLIGHT
BEGIN:STANDARD
TZOFFSETFROM:-0400
TZOFFSETTO:-0500
TZNAME:EST
DTSTART:20251102T060000
END:STANDARD
BEGIN:DAYLIGHT
TZOFFSETFROM:-0500
TZOFFSETTO:-0400
TZNAME:EDT
DTSTART:20260308T070000
END:DAYLIGHT
BEGIN:STANDARD
TZOFFSETFROM:-0400
TZOFFSETTO:-0500
TZNAME:EST
DTSTART:20261101T060000
END:STANDARD
END:VTIMEZONE
BEGIN:VEVENT
DTSTART;TZID=America/New_York:20250212T183000
DTEND;TZID=America/New_York:20250212T220000
DTSTAMP:20260425T145908
CREATED:20250109T162051Z
LAST-MODIFIED:20250205T201424Z
UID:105900-1739385000-1739397600@www.mentorbkb.org
SUMMARY:Bocuse d'Or Americas VIP Dinner
DESCRIPTION: Celebrate the Return of the Bocuse d’Or\nin New Orleans  \n \nWe are thrilled to announce the Bocuse d’Or Americas competition will once again be held in New Orleans in 2026. Join us for an exclusive evening in support of the event\, featuring an intimate gathering with Chefs Thomas Keller\, Daniel Boulud\, and Jérôme Bocuse. The event will take place on February 12\, 2025\, beginning at 6:30 PM with cocktails\, followed by dinner and entertainment at 7:30 PM. \nWe are proud that the global culinary spotlight will be highlighting New Orleans once again\, a city rich in culinary tradition. We hope you will join us in the special evening to support both Ment’or and Team USA. \nVIP Ticket: $2500 per person \nLocation: W.P. Brown Mansion\, 4717 Saint Charles Avenue\, New Orleans\, LA 70115 \nAttire: Black Tie \nIf you cannot join us but would still like to support Ment’or\, please click here to donate! \n \nBy entering this event you agree to be photographed or filmed and consent to the following:\nI hereby irrevocably authorize and grant permission to Ment’or\, their successors and assigns\, and their respective officers authorized by them\, to use\, separately or together\, my name\, picture\, or other likeness\, in whole or in part\, in connection with this Ment’or event in any and all media now or hereafter known (including\, without limitation\, broadcast and cable television\, industrial media\, and internet) throughout the world\, in perpetuity.
URL:https://www.mentorbkb.org/event/nola-2025/
END:VEVENT
END:VCALENDAR